BEGIN:VCALENDAR
VERSION:2.0
PRODID:-//Startup Goa - ECPv4.9.12//NONSGML v1.0//EN
CALSCALE:GREGORIAN
METHOD:PUBLISH
X-WR-CALNAME:Startup Goa
X-ORIGINAL-URL:https://startupgoa.org
X-WR-CALDESC:Events for Startup Goa
BEGIN:VTIMEZONE
TZID:Asia/Kolkata
BEGIN:STANDARD
TZOFFSETFROM:+0530
TZOFFSETTO:+0530
TZNAME:IST
DTSTART:20170101T000000
END:STANDARD
END:VTIMEZONE
BEGIN:VEVENT
DTSTART;TZID=Asia/Kolkata:20170629T103000
DTEND;TZID=Asia/Kolkata:20170629T123000
DTSTAMP:20260421T064507
CREATED:20170622T122626Z
LAST-MODIFIED:20170622T123522Z
UID:21594-1498732200-1498739400@startupgoa.org
SUMMARY:Google presents the SMB Heroes ‘17
DESCRIPTION:SMB is a program\, organised by Google\, to identify\, recognise and businesses that have used digital means to impact their growth. Small and Medium Businesses (SMB) are the backbone of the Indian economy which an empowering the next wave of growth in the country.  \nThe SMB Heroes will be chosen over three categories;\n\nWoman Business Leader – Women play a big role in the business sector and this award will honour women who have empowered themselves not only to lead their organisations but also to aid in exceptional business growth.\nBusiness Innovation with Digital – Recognising businesses that have harnessed the power of digital to influence the way they interact with clientele\, gain access to customers and transform the way they work.\nImpacting Change with Digital – Celebrating businesses that have gone the extra mile beyond business growth by influencing the lives of people around them and more.\n\nRegister now to join senior leaders from Google\, industry and business owners\, as the SMB Heroes shines the spotlight on the Indian business ecosystem and explores how digital can be a game changer to help you one up on your competition. \nDate: 29th June 2017 \nTime: 10:30am to 12:30pm \nVenue: Vivanta by Taj\, Panaji\, Goa \n
URL:https://startupgoa.org/events/google-presents-the-smb-heroes-17/
LOCATION:Vivanta by Taj\, Panjim\, Panjim\, Goa\, 403001\, India
CATEGORIES:Conferences
END:VEVENT
END:VCALENDAR