BEGIN:VCALENDAR
VERSION:2.0
PRODID:-//Startup Goa - ECPv4.9.12//NONSGML v1.0//EN
CALSCALE:GREGORIAN
METHOD:PUBLISH
X-WR-CALNAME:Startup Goa
X-ORIGINAL-URL:https://startupgoa.org
X-WR-CALDESC:Events for Startup Goa
BEGIN:VTIMEZONE
TZID:Asia/Kolkata
BEGIN:STANDARD
TZOFFSETFROM:+0530
TZOFFSETTO:+0530
TZNAME:IST
DTSTART:20170101T000000
END:STANDARD
END:VTIMEZONE
BEGIN:VEVENT
DTSTART;TZID=Asia/Kolkata:20170722T160000
DTEND;TZID=Asia/Kolkata:20170722T230000
DTSTAMP:20260421T082941
CREATED:20170624T081202Z
LAST-MODIFIED:20170731T100018Z
UID:21644-1500739200-1500764400@startupgoa.org
SUMMARY:Come One\, Come All to ‘Goa Play’ Party
DESCRIPTION:‘Bid in Goa’ (BIG) with their promotion partners ‘All Events Company’ are organising ‘Goa Play’\, a tech and product launch party at Red Ginger in Colva for tech companies and tech enthusiasts. \nThis event aims to promote networking between the IT community from Goa and beyond while transferring knowledge through short sessions by young entrepreneurs and other speakers. \nThe schedule of the event will include: \n\nInaugural Ceremony\nSessions by Young Entrepreneurs\nProduct launch by Goa Angels Accelerators [Bid in Goa]\nLive Bidding during the Event.\nSession by CIBA representative/ Idea Competition.\nCrowd introduction\, interaction\, and networking.\n\nDate: 22nd July 2017 \nTime: 4:00pm – 11:00pm \nVenue: The Red Ginger\, Colva \nCost: Rs 60/- \nHope to see you there and bring your friends! For further inquiries\, drop a mail to ashley.d39souza@gmail.com \n
URL:https://startupgoa.org/events/come-one-come-all-to-goa-play-party/
CATEGORIES:Meetups
ATTACH;FMTTYPE=image/png:https://startupgoa.org/wp-content/uploads/2017/06/19983938_1318537664939692_404347133816142925_o.png
END:VEVENT
END:VCALENDAR